BEGIN:VCALENDAR
VERSION:2.0
PRODID:-//Društvo upokojencev Semič - ECPv6.10.0//NONSGML v1.0//EN
CALSCALE:GREGORIAN
METHOD:PUBLISH
X-WR-CALNAME:Društvo upokojencev Semič
X-ORIGINAL-URL:https://www.dusemic.si
X-WR-CALDESC:Dogodki za Društvo upokojencev Semič
REFRESH-INTERVAL;VALUE=DURATION:PT1H
X-Robots-Tag:noindex
X-PUBLISHED-TTL:PT1H
BEGIN:VTIMEZONE
TZID:Europe/Ljubljana
BEGIN:DAYLIGHT
TZOFFSETFROM:+0100
TZOFFSETTO:+0200
TZNAME:CEST
DTSTART:20250330T010000
END:DAYLIGHT
BEGIN:STANDARD
TZOFFSETFROM:+0200
TZOFFSETTO:+0100
TZNAME:CET
DTSTART:20251026T010000
END:STANDARD
END:VTIMEZONE
BEGIN:VEVENT
DTSTART;VALUE=DATE:20250101
DTEND;VALUE=DATE:20250102
DTSTAMP:20260419T173340
CREATED:20241218T090050Z
LAST-MODIFIED:20241220T082159Z
UID:1009-1735689600-1735775999@www.dusemic.si
SUMMARY:Novo leto
DESCRIPTION:Novo leto
URL:https://www.dusemic.si/dogodek/01-01-2025/
END:VEVENT
BEGIN:VEVENT
DTSTART;TZID=Europe/Ljubljana:20250108T160000
DTEND;TZID=Europe/Ljubljana:20250108T180000
DTSTAMP:20260419T173340
CREATED:20250106T093816Z
LAST-MODIFIED:20250106T093816Z
UID:1169-1736352000-1736359200@www.dusemic.si
SUMMARY:Pikado zimska belokranjska liga
DESCRIPTION:4. kolo zimske belokranjske lige v pikadu bo v prostoru Društva upokojencev Semič. \nTekmovanje se prične ob 16h. \nŽelimo vam mirno roko in oster pogled!
URL:https://www.dusemic.si/dogodek/pikado-zimska-belokranjska-liga/
LOCATION:Semič\, Vajdova ulica 8\, Vajdova ulica 8\, Semič\, 8333\, Slovenia
END:VEVENT
BEGIN:VEVENT
DTSTART;TZID=Europe/Ljubljana:20250115T160000
DTEND;TZID=Europe/Ljubljana:20250115T180000
DTSTAMP:20260419T173340
CREATED:20250112T150052Z
LAST-MODIFIED:20250113T084124Z
UID:1193-1736956800-1736964000@www.dusemic.si
SUMMARY:Pikado zimska belokranjska liga
DESCRIPTION:5. kolo zimske belokranjske lige v pikadu bo v Metliki ob 16h. \nŽelimo vam mirno roko in oster pogled! \n 
URL:https://www.dusemic.si/dogodek/pikado-zimska-belokranjska-liga-2/
END:VEVENT
BEGIN:VEVENT
DTSTART;TZID=Europe/Ljubljana:20250121T090000
DTEND;TZID=Europe/Ljubljana:20250121T113000
DTSTAMP:20260419T173340
CREATED:20250115T184401Z
LAST-MODIFIED:20250115T184401Z
UID:1221-1737450000-1737459000@www.dusemic.si
SUMMARY:Pohod
DESCRIPTION:V torek 21. 1. 2025 bo pohod »Spoznajmo Dolenjsko«. Zbirno mesto bo ob 9\,00 uri pod nadstrešnico pred trgovino Špar v Brusnicah.
URL:https://www.dusemic.si/dogodek/pohod/
END:VEVENT
BEGIN:VEVENT
DTSTART;TZID=Europe/Ljubljana:20250121T141500
DTEND;TZID=Europe/Ljubljana:20250121T163000
DTSTAMP:20260419T173340
CREATED:20250119T135014Z
LAST-MODIFIED:20250119T135014Z
UID:1232-1737468900-1737477000@www.dusemic.si
SUMMARY:Občinska liga v Štrbunku
DESCRIPTION:Občinska liga v Štrbunku bo od 21.01.2025 do vključno 25.03.2025 vsak torek ob 14:15 v DU Semič.
URL:https://www.dusemic.si/dogodek/obcinska-liga-v-strbunku/
ATTACH;FMTTYPE=image/jpeg:https://www.dusemic.si/wp-content/uploads/2025/01/2979418650624428891.jpg
END:VEVENT
BEGIN:VEVENT
DTSTART;TZID=Europe/Ljubljana:20250121T170000
DTEND;TZID=Europe/Ljubljana:20250121T190000
DTSTAMP:20260419T173340
CREATED:20250115T144849Z
LAST-MODIFIED:20250115T145729Z
UID:1217-1737478800-1737486000@www.dusemic.si
SUMMARY:Rokodelke - spoznavanje tehniko vezenja "rešilje"
DESCRIPTION:V torek\, 21. jan. ob 17. uri bomo v društvu spoznavale tehniko vezenja rešilje. Vabljeni\, da se nam pridružite!
URL:https://www.dusemic.si/dogodek/rokodelke-spoznavanje-tehnike-resilje/
LOCATION:Semič\, Vajdova ulica 8\, Vajdova ulica 8\, Semič\, 8333\, Slovenia
END:VEVENT
BEGIN:VEVENT
DTSTART;TZID=Europe/Ljubljana:20250122T160000
DTEND;TZID=Europe/Ljubljana:20250122T190000
DTSTAMP:20260419T173340
CREATED:20250121T064317Z
LAST-MODIFIED:20250121T131647Z
UID:1263-1737561600-1737572400@www.dusemic.si
SUMMARY:Pikado belokranjska zimska liga – koledar tekem
DESCRIPTION:6. kolo 22. 01. 2025 Črnomelj \n7. kolo 29.01.2025 Semič\n8. kolo 05.02.2025 Metlika\n9. kolo 12.02.2025 Črnomelj\n10. kolo 19.02.2025 Semič\n11. kolo 26.02.2025 Metlika\n12. kolo 05.03.2025 Črnomelj\n13. kolo 12.03.2025 Semič\n14. kolo 19.03.2025 Metlika\n15. kolo 26.03.2025 Črnomelj
URL:https://www.dusemic.si/dogodek/pikado-belokranjska-zimska-liga-koledar-tekem-2/
END:VEVENT
BEGIN:VEVENT
DTSTART;TZID=Europe/Ljubljana:20250126T150000
DTEND;TZID=Europe/Ljubljana:20250126T163000
DTSTAMP:20260419T173340
CREATED:20250115T075026Z
LAST-MODIFIED:20250115T075026Z
UID:1204-1737903600-1737909000@www.dusemic.si
SUMMARY:Zdravilo za vse bolezni
DESCRIPTION:“Zdravilo” za vse bolezni je na dosegu že 30 let\, predavanje Jožeta Medleta – KC Semič
URL:https://www.dusemic.si/dogodek/zdravilo-za-vse-bolezni/
LOCATION:KC Semič
END:VEVENT
END:VCALENDAR